BEGIN:VCALENDAR
VERSION:2.0
PRODID:-//Squarespace Inc/Squarespace 6//v6//EN
BEGIN:VEVENT
UID:603a0050d5e6525faf22e545@squarespace.com
DTSTAMP:20210227T081853Z
DTSTART:20210918T130000Z
DTEND:20210918T220000Z
SUMMARY:Blackbird Feis
END:VEVENT
END:VCALENDAR
