BEGIN:VCALENDAR
VERSION:2.0
PRODID:-//Squarespace Inc/Squarespace 6//v6//EN
BEGIN:VEVENT
UID:603a001e2d914d0b8c393bbe@squarespace.com
DTSTAMP:20210227T081821Z
DTSTART:20210912T130000Z
DTEND:20210912T220000Z
SUMMARY:NSW State Team Championships
END:VEVENT
END:VCALENDAR
