BEGIN:VCALENDAR
VERSION:2.0
PRODID:-//Squarespace Inc/Squarespace 6//v6//EN
BEGIN:VEVENT
UID:6039fffd785a1a1f89c0b2ad@squarespace.com
DTSTAMP:20210227T081730Z
DTSTART:20210828T130000Z
DTEND:20210829T220000Z
SUMMARY:NSW State Solo Championships
END:VEVENT
END:VCALENDAR
