BEGIN:VCALENDAR
VERSION:2.0
PRODID:-//Squarespace Inc/Squarespace 6//v6//EN
BEGIN:VEVENT
UID:6039ff91c7c1e447d77d5b2e@squarespace.com
DTSTAMP:20210227T081541Z
DTSTART:20210709T130000Z
DTEND:20210711T220000Z
SUMMARY:Australian International Oireachtas Qld
END:VEVENT
END:VCALENDAR
