BEGIN:VCALENDAR
VERSION:2.0
PRODID:-//Squarespace Inc/Squarespace 6//v6//EN
BEGIN:VEVENT
UID:6039ff659e1e6b26c09dce00@squarespace.com
DTSTAMP:20210227T081500Z
DTSTART:20210703T130000Z
DTEND:20210704T220000Z
SUMMARY:Reilly Feis
END:VEVENT
END:VCALENDAR
