BEGIN:VCALENDAR
VERSION:2.0
PRODID:-//Squarespace Inc/Squarespace 6//v6//EN
BEGIN:VEVENT
UID:6039ff224e6a0d18613c8970@squarespace.com
DTSTAMP:20210227T081426Z
DTSTART:20210619T130000Z
DTEND:20210620T220000Z
SUMMARY:INDA Feis 
END:VEVENT
END:VCALENDAR
