BEGIN:VCALENDAR
VERSION:2.0
PRODID:-//Squarespace Inc/Squarespace 6//v6//EN
BEGIN:VEVENT
UID:6039fd9aa3f9d81e9719361c@squarespace.com
DTSTAMP:20210227T080822Z
DTSTART:20210327T130000Z
DTEND:20210328T210000Z
SUMMARY:St Patricks Day Feis 
END:VEVENT
END:VCALENDAR
