BEGIN:VCALENDAR
VERSION:2.0
PRODID:-//Squarespace Inc/Squarespace 6//v6//EN
BEGIN:VEVENT
UID:6039fdf9775eed6fbdb22694@squarespace.com
DTSTAMP:20210227T081317Z
DTSTART:20210320T130000Z
DTEND:20210321T220000Z
SUMMARY:St Patricks Day Festival Performances
END:VEVENT
END:VCALENDAR
