BEGIN:VCALENDAR
VERSION:2.0
PRODID:-//Squarespace Inc/Squarespace 6//v6//EN
BEGIN:VEVENT
UID:6039fd4e7b5a401e70c97fe8@squarespace.com
DTSTAMP:20210227T080814Z
DTSTART:20210314T130000Z
DTEND:20210314T210000Z
SUMMARY:Mercantile Feis 
END:VEVENT
END:VCALENDAR
