BEGIN:VCALENDAR
VERSION:2.0
PRODID:-//Squarespace Inc/Squarespace 6//v6//EN
BEGIN:VEVENT
UID:5e48eb8587b2ad50b45fb52f@squarespace.com
DTSTAMP:20200216T071332Z
DTSTART:20200606T130000Z
DTEND:20200607T210000Z
SUMMARY:McAleer Feis Melbourne
END:VEVENT
END:VCALENDAR
