BEGIN:VCALENDAR
VERSION:2.0
PRODID:-//Squarespace Inc/Squarespace 6//v6//EN
BEGIN:VEVENT
UID:5e48ebb8dd42c458f338fd18@squarespace.com
DTSTAMP:20200216T071420Z
DTSTART:20200620T130000Z
DTEND:20200621T210000Z
SUMMARY:INDA Feis
END:VEVENT
END:VCALENDAR
