BEGIN:VCALENDAR
VERSION:2.0
PRODID:-//Squarespace Inc/Squarespace 6//v6//EN
BEGIN:VEVENT
UID:5e659505ad7cab40b9dc2b9d@squarespace.com
DTSTAMP:20200309T010022Z
DTSTART:20200613T130000Z
DTEND:20200614T220000Z
SUMMARY:Reilly Feis
END:VEVENT
END:VCALENDAR
