BEGIN:VCALENDAR
VERSION:2.0
PRODID:-//Squarespace Inc/Squarespace 6//v6//EN
BEGIN:VEVENT
UID:5e48eb2eb9127d456ac6f367@squarespace.com
DTSTAMP:20200216T071211Z
DTSTART:20200530T130000Z
DTEND:20200531T210000Z
SUMMARY:AIDA NSW Reserve Feis
END:VEVENT
END:VCALENDAR
