BEGIN:VCALENDAR
VERSION:2.0
PRODID:-//Squarespace Inc/Squarespace 6//v6//EN
BEGIN:VEVENT
UID:5e48eab68497647c62661fae@squarespace.com
DTSTAMP:20200216T071003Z
DTSTART:20200503T130000Z
DTEND:20200503T210000Z
SUMMARY:Easter Feis
END:VEVENT
END:VCALENDAR
