BEGIN:VCALENDAR
VERSION:2.0
PRODID:-//Squarespace Inc/Squarespace 6//v6//EN
BEGIN:VEVENT
UID:5e48eb0db9127d456ac6f1ac@squarespace.com
DTSTAMP:20200216T071129Z
DTSTART:20200523T130000Z
DTEND:20200524T210000Z
SUMMARY:Maureen Whelan Memorial Feis
END:VEVENT
END:VCALENDAR
