BEGIN:VCALENDAR
VERSION:2.0
PRODID:-//Squarespace Inc/Squarespace 6//v6//EN
BEGIN:VEVENT
UID:5e48eae896cdbe0b6685210b@squarespace.com
DTSTAMP:20200216T071050Z
DTSTART:20200516T130000Z
DTEND:20200517T210000Z
SUMMARY:Hills Feis
END:VEVENT
END:VCALENDAR
