BEGIN:VCALENDAR
VERSION:2.0
PRODID:-//Squarespace Inc/Squarespace 6//v6//EN
BEGIN:VEVENT
UID:5e48ea6fbc62bd1912647455@squarespace.com
DTSTAMP:20200216T070902Z
DTSTART:20200321T130000Z
DTEND:20200321T210000Z
SUMMARY:Tara Feis 
END:VEVENT
END:VCALENDAR
