BEGIN:VCALENDAR
VERSION:2.0
PRODID:-//Squarespace Inc/Squarespace 6//v6//EN
BEGIN:VEVENT
UID:5cc4fa821905f4d13a665065@squarespace.com
DTSTAMP:20190428T005759Z
DTSTART:20190908T130000Z
DTEND:20190908T210000Z
SUMMARY:Blackbird Feis
END:VEVENT
END:VCALENDAR
