BEGIN:VCALENDAR
VERSION:2.0
PRODID:-//Squarespace Inc/Squarespace 6//v6//EN
BEGIN:VEVENT
UID:5cc4fa576e9a7f0f5250343a@squarespace.com
DTSTAMP:20190428T005716Z
DTSTART:20190823T130000Z
DTEND:20190825T210000Z
SUMMARY:NSW State Championships
END:VEVENT
END:VCALENDAR
