BEGIN:VCALENDAR
VERSION:2.0
PRODID:-//Squarespace Inc/Squarespace 6//v6//EN
BEGIN:VEVENT
UID:5cc4fa069140b7ee61e261c0@squarespace.com
DTSTAMP:20190428T005633Z
DTSTART:20190810T130000Z
DTEND:20190811T210000Z
SUMMARY:Fleadh Cheoil Feis
END:VEVENT
END:VCALENDAR
