BEGIN:VCALENDAR
VERSION:2.0
PRODID:-//Squarespace Inc/Squarespace 6//v6//EN
BEGIN:VEVENT
UID:5cc4f71be83b420001aff026@squarespace.com
DTSTAMP:20190428T004801Z
DTSTART:20190608T130000Z
DTEND:20190609T210000Z
SUMMARY:McAleer Feis
GEO:-38.085662;145.367802
LOCATION:Hillcrest Christian College\, 500 Soldiers Road\, Clyde North\, VI
 C\, 3978\, Australia
END:VEVENT
END:VCALENDAR
