BEGIN:VCALENDAR
VERSION:2.0
PRODID:-//Squarespace Inc/Squarespace 6//v6//EN
BEGIN:VEVENT
UID:5cc4f87ef5a50f0001072612@squarespace.com
DTSTAMP:20190428T004920Z
DTSTART:20190629T130000Z
DTEND:20190630T210000Z
SUMMARY:Camden Country Feis
END:VEVENT
END:VCALENDAR
