BEGIN:VCALENDAR
VERSION:2.0
PRODID:-//Squarespace Inc/Squarespace 6//v6//EN
BEGIN:VEVENT
UID:5cc4f856e83b420001aff756@squarespace.com
DTSTAMP:20190428T004847Z
DTSTART:20190615T130000Z
DTEND:20190616T210000Z
SUMMARY:INDA Feis
END:VEVENT
END:VCALENDAR
