BEGIN:VCALENDAR
VERSION:2.0
PRODID:-//Squarespace Inc/Squarespace 6//v6//EN
BEGIN:VEVENT
UID:5cc4f5f66e9a7f0f525019d2@squarespace.com
DTSTAMP:20190428T005357Z
DTSTART:20190505T130000Z
DTEND:20190505T220000Z
SUMMARY:Easter Feis
GEO:-33.752241;150.717775
LOCATION:Penrith Gaels Cultural and Sport Club
END:VEVENT
END:VCALENDAR
