BEGIN:VCALENDAR
VERSION:2.0
PRODID:-//Squarespace Inc/Squarespace 6//v6//EN
BEGIN:VEVENT
UID:5cc4f6c80717dc00012c9155@squarespace.com
DTSTAMP:20190428T004244Z
DTSTART:20190525T130000Z
DTEND:20190526T220000Z
SUMMARY:AIDA NSW Reserve Feis
GEO:-33.766101;150.907373
LOCATION:Blcaktown RSL Club
END:VEVENT
END:VCALENDAR
