BEGIN:VCALENDAR
VERSION:2.0
PRODID:-//Squarespace Inc/Squarespace 6//v6//EN
BEGIN:VEVENT
UID:5cc4f67024a69449744e9ac9@squarespace.com
DTSTAMP:20190428T004128Z
DTSTART:20190518T130000Z
DTEND:20190519T210000Z
SUMMARY:Hills Feis 
GEO:-33.764342;151.04812
LOCATION:Roselea Community Centre
END:VEVENT
END:VCALENDAR
