BEGIN:VCALENDAR
VERSION:2.0
PRODID:-//Squarespace Inc/Squarespace 6//v6//EN
BEGIN:VEVENT
UID:5cc4f8c6ee6eb05d61974666@squarespace.com
DTSTAMP:20190428T005217Z
DTSTART:20190712T130000Z
DTEND:20190714T210000Z
SUMMARY:Australian International Oireachtas
GEO:-28.004451;153.376454
LOCATION:Royal Pines Resort
END:VEVENT
END:VCALENDAR
