BEGIN:VCALENDAR
VERSION:2.0
PRODID:-//Squarespace Inc/Squarespace 6//v6//EN
BEGIN:VEVENT
UID:5da3afc8a8be366f5cd47434@squarespace.com
DTSTAMP:20191013T231503Z
DTSTART:20191116T140000Z
DTEND:20191117T220000Z
SUMMARY:AIDA NSW Graded Exams 
END:VEVENT
END:VCALENDAR
