BEGIN:VCALENDAR
VERSION:2.0
PRODID:-//Squarespace Inc/Squarespace 6//v6//EN
BEGIN:VEVENT
UID:5da3af889bca686d8387ccd6@squarespace.com
DTSTAMP:20191013T231400Z
DTSTART:20191110T140000Z
DTEND:20191110T220000Z
SUMMARY:AIDA NSW Charity Feis
END:VEVENT
END:VCALENDAR
