BEGIN:VCALENDAR
VERSION:2.0
PRODID:-//Squarespace Inc/Squarespace 6//v6//EN
BEGIN:VEVENT
UID:5da2fd382d11583e99a37ace@squarespace.com
DTSTAMP:20191013T231259Z
DTSTART:20191027T130000Z
DTEND:20191027T210000Z
SUMMARY:Sutherland Shire Graded Feis
END:VEVENT
END:VCALENDAR
