BEGIN:VCALENDAR
VERSION:2.0
PRODID:-//Squarespace Inc/Squarespace 6//v6//EN
BEGIN:VEVENT
UID:5cc4fac541920206ad102af5@squarespace.com
DTSTAMP:20190428T005932Z
DTSTART:20191001T120000Z
DTEND:20191006T220000Z
SUMMARY:Australian Championships 
END:VEVENT
END:VCALENDAR
