BEGIN:VCALENDAR
VERSION:2.0
PRODID:-//Squarespace Inc/Squarespace 6//v6//EN
BEGIN:VEVENT
UID:5abaae128a922d52fbe5308f@squarespace.com
DTSTAMP:20180327T204850Z
DTSTART:20180910T000000Z
DTEND:20180910T010000Z
SUMMARY:Blackbird Feis
END:VEVENT
END:VCALENDAR
