BEGIN:VCALENDAR
VERSION:2.0
PRODID:-//Squarespace Inc/Squarespace 6//v6//EN
BEGIN:VEVENT
UID:5b5e701d562fa73ce968d29e@squarespace.com
DTSTAMP:20180730T015613Z
DTSTART:20180916T130000Z
DTEND:20180916T220000Z
SUMMARY:Southern Cross Feis
END:VEVENT
END:VCALENDAR
