BEGIN:VCALENDAR
VERSION:2.0
PRODID:-//Squarespace Inc/Squarespace 6//v6//EN
BEGIN:VEVENT
UID:5abaade91ae6cfedc46e87dd@squarespace.com
DTSTAMP:20180327T204810Z
DTSTART:20180827T000000Z
DTEND:20180827T010000Z
SUMMARY:NSW State Ceili Championships
END:VEVENT
END:VCALENDAR
