BEGIN:VCALENDAR
VERSION:2.0
PRODID:-//Squarespace Inc/Squarespace 6//v6//EN
BEGIN:VEVENT
UID:5abaadba575d1f41eb803f2a@squarespace.com
DTSTAMP:20180327T204729Z
DTSTART:20180817T120000Z
DTEND:20180819T130000Z
SUMMARY:NSW State Solo Championships
END:VEVENT
END:VCALENDAR
