BEGIN:VCALENDAR
VERSION:2.0
PRODID:-//Squarespace Inc/Squarespace 6//v6//EN
BEGIN:VEVENT
UID:597fa1a637c5816bf78bb1b1@squarespace.com
DTSTAMP:20170731T213236Z
DTSTART:20180707T120000Z
DTEND:20180708T210000Z
SUMMARY:Reilly Feis
END:VEVENT
END:VCALENDAR
