BEGIN:VCALENDAR
VERSION:2.0
PRODID:-//Squarespace Inc/Squarespace 6//v6//EN
BEGIN:VEVENT
UID:5abaad3c8a922d52fbe4fd33@squarespace.com
DTSTAMP:20180327T204603Z
DTSTART:20180701T000000Z
DTEND:20180701T130000Z
SUMMARY:Claddagh International Feis
END:VEVENT
END:VCALENDAR
