BEGIN:VCALENDAR
VERSION:2.0
PRODID:-//Squarespace Inc/Squarespace 6//v6//EN
BEGIN:VEVENT
UID:5abaad1c758d46ab88fc65a3@squarespace.com
DTSTAMP:20180327T204435Z
DTSTART:20180616T120000Z
DTEND:20180617T130000Z
SUMMARY:INDA Feis 
END:VEVENT
END:VCALENDAR
