BEGIN:VCALENDAR
VERSION:2.0
PRODID:-//Squarespace Inc/Squarespace 6//v6//EN
BEGIN:VEVENT
UID:5abaaa922b6a2855e4254ebe@squarespace.com
DTSTAMP:20180425T082805Z
DTSTART:20180506T130000Z
DTEND:20180506T220000Z
SUMMARY:Easter Feis 
END:VEVENT
END:VCALENDAR
