BEGIN:VCALENDAR
VERSION:2.0
PRODID:-//Squarespace Inc/Squarespace 6//v6//EN
BEGIN:VEVENT
UID:5abaac1f70a6ad14c88eac36@squarespace.com
DTSTAMP:20180421T033807Z
DTSTART:20180429T120000Z
DTEND:20180429T130000Z
SUMMARY:Claddagh Beginners\, Primary and Elementary Feis 
END:VEVENT
END:VCALENDAR
