BEGIN:VCALENDAR
VERSION:2.0
PRODID:-//Squarespace Inc/Squarespace 6//v6//EN
BEGIN:VEVENT
UID:5abadc4c6d2a733c076bb69a@squarespace.com
DTSTAMP:20180408T211236Z
DTSTART:20180423T200000Z
DTEND:20180427T013000Z
SUMMARY:Holiday Workshops 
END:VEVENT
END:VCALENDAR
