BEGIN:VCALENDAR
VERSION:2.0
PRODID:-//Squarespace Inc/Squarespace 6//v6//EN
BEGIN:VEVENT
UID:597fa2afd482e956bf5a152d@squarespace.com
DTSTAMP:20170731T213700Z
DTSTART:20181003T120000Z
DTEND:20181007T220000Z
SUMMARY:Australian Championships - Cairns
END:VEVENT
END:VCALENDAR
