BEGIN:VCALENDAR
VERSION:2.0
PRODID:-//Squarespace Inc/Squarespace 6//v6//EN
BEGIN:VEVENT
UID:58d25e58414fb56e758be70d@squarespace.com
DTSTAMP:20170328T211247Z
DTSTART:20170926T120000Z
DTEND:20171003T010000Z
SUMMARY:Australian Championships - Adelaide
GEO:-34.945333;138.592544
LOCATION:Adelaide Showgrounds\, Wayville\, South Australia
END:VEVENT
END:VCALENDAR
