BEGIN:VCALENDAR
VERSION:2.0
PRODID:-//Squarespace Inc/Squarespace 6//v6//EN
BEGIN:VEVENT
UID:5946fa70e4fcb54c21fd44a5@squarespace.com
DTSTAMP:20170618T221150Z
DTSTART:20170917T123000Z
DTEND:20170917T223000Z
SUMMARY:Southern Cross Feis 
END:VEVENT
END:VCALENDAR
