BEGIN:VCALENDAR
VERSION:2.0
PRODID:-//Squarespace Inc/Squarespace 6//v6//EN
BEGIN:VEVENT
UID:58d25a9403596e47df361305@squarespace.com
DTSTAMP:20170322T111005Z
DTSTART:20170910T120000Z
DTEND:20170910T220000Z
SUMMARY:Trinity Feis 
END:VEVENT
END:VCALENDAR
