BEGIN:VCALENDAR
VERSION:2.0
PRODID:-//Squarespace Inc/Squarespace 6//v6//EN
BEGIN:VEVENT
UID:58d259dcff7c508a02be3969@squarespace.com
DTSTAMP:20170322T110327Z
DTSTART:20170827T120000Z
DTEND:20170827T220000Z
SUMMARY:NSW State Ceili Championships 
END:VEVENT
END:VCALENDAR
