BEGIN:VCALENDAR
VERSION:2.0
PRODID:-//Squarespace Inc/Squarespace 6//v6//EN
BEGIN:VEVENT
UID:59014c0615d5db484426c2b2@squarespace.com
DTSTAMP:20170427T014133Z
DTSTART:20170722T130000Z
DTEND:20170723T220000Z
SUMMARY:Camden Country Feis
END:VEVENT
END:VCALENDAR
