BEGIN:VCALENDAR
VERSION:2.0
PRODID:-//Squarespace Inc/Squarespace 6//v6//EN
BEGIN:VEVENT
UID:58d2594759cc68ea4a9ee107@squarespace.com
DTSTAMP:20170322T110045Z
DTSTART:20170715T120000Z
DTEND:20170716T220000Z
SUMMARY:Reilly Feis
END:VEVENT
END:VCALENDAR
