BEGIN:VCALENDAR
VERSION:2.0
PRODID:-//Squarespace Inc/Squarespace 6//v6//EN
BEGIN:VEVENT
UID:58d2578f197aeac99ca26c31@squarespace.com
DTSTAMP:20170322T105614Z
DTSTART:20170602T120000Z
DTEND:20170604T220000Z
SUMMARY:Australian International Oireachtas
GEO:-28.016667;153.4
LOCATION:Royal Pines Resort\, Gold Coast
END:VEVENT
END:VCALENDAR
