BEGIN:VCALENDAR
VERSION:2.0
PRODID:-//Squarespace Inc/Squarespace 6//v6//EN
BEGIN:VEVENT
UID:58d2590cd2b857cbb83e7ee6@squarespace.com
DTSTAMP:20170322T105959Z
DTSTART:20170617T120000Z
DTEND:20170618T220000Z
SUMMARY:INDA Feis 
END:VEVENT
END:VCALENDAR
